BEGIN:VCALENDAR
VERSION:2.0
PRODID:-//Emeritus Vineyards - ECPv6.15.20//NONSGML v1.0//EN
CALSCALE:GREGORIAN
METHOD:PUBLISH
X-WR-CALNAME:Emeritus Vineyards
X-ORIGINAL-URL:http://www.emeritusvineyards.com
X-WR-CALDESC:Events for Emeritus Vineyards
REFRESH-INTERVAL;VALUE=DURATION:PT1H
X-Robots-Tag:noindex
X-PUBLISHED-TTL:PT1H
BEGIN:VTIMEZONE
TZID:America/Los_Angeles
BEGIN:DAYLIGHT
TZOFFSETFROM:-0800
TZOFFSETTO:-0700
TZNAME:PDT
DTSTART:20230312T100000
END:DAYLIGHT
BEGIN:STANDARD
TZOFFSETFROM:-0700
TZOFFSETTO:-0800
TZNAME:PST
DTSTART:20231105T090000
END:STANDARD
BEGIN:DAYLIGHT
TZOFFSETFROM:-0800
TZOFFSETTO:-0700
TZNAME:PDT
DTSTART:20240310T100000
END:DAYLIGHT
BEGIN:STANDARD
TZOFFSETFROM:-0700
TZOFFSETTO:-0800
TZNAME:PST
DTSTART:20241103T090000
END:STANDARD
BEGIN:DAYLIGHT
TZOFFSETFROM:-0800
TZOFFSETTO:-0700
TZNAME:PDT
DTSTART:20250309T100000
END:DAYLIGHT
BEGIN:STANDARD
TZOFFSETFROM:-0700
TZOFFSETTO:-0800
TZNAME:PST
DTSTART:20251102T090000
END:STANDARD
END:VTIMEZONE
BEGIN:VEVENT
DTSTART;TZID=America/Los_Angeles:20240524T100000
DTEND;TZID=America/Los_Angeles:20240527T170000
DTSTAMP:20260422T064648
CREATED:20240429T032530Z
LAST-MODIFIED:20240516T212114Z
UID:2026-1716544800-1716829200@www.emeritusvineyards.com
SUMMARY:Pinot & Popcorn Pairing
DESCRIPTION:This Memorial Day Weekend we have a fun and unique pairing of Pinot and popcorn! We will have a popcorn bar set up all weekend with both traditional popcorn flavors and some truly unique ones. Enjoy pairing your favorite flavors with our delicious pinot noirs! \n$10 add-on to any tasting!
URL:http://www.emeritusvineyards.com/event/pinot-popcorn-pairing-2/
LOCATION:Emeritus Vineyard Winery\, 2500 Gravenstein Highway North\, Sebastopol\, CA\, 95472\, United States
ATTACH;FMTTYPE=image/png:http://www.emeritusvineyards.com/wp-content/uploads/2024/01/Popcorn-Pinot.png
END:VEVENT
END:VCALENDAR