BEGIN:VCALENDAR
VERSION:2.0
PRODID:-//Emeritus Vineyards - ECPv6.15.20//NONSGML v1.0//EN
CALSCALE:GREGORIAN
METHOD:PUBLISH
X-WR-CALNAME:Emeritus Vineyards
X-ORIGINAL-URL:http://www.emeritusvineyards.com
X-WR-CALDESC:Events for Emeritus Vineyards
REFRESH-INTERVAL;VALUE=DURATION:PT1H
X-Robots-Tag:noindex
X-PUBLISHED-TTL:PT1H
BEGIN:VTIMEZONE
TZID:America/Los_Angeles
BEGIN:DAYLIGHT
TZOFFSETFROM:-0800
TZOFFSETTO:-0700
TZNAME:PDT
DTSTART:20230312T100000
END:DAYLIGHT
BEGIN:STANDARD
TZOFFSETFROM:-0700
TZOFFSETTO:-0800
TZNAME:PST
DTSTART:20231105T090000
END:STANDARD
BEGIN:DAYLIGHT
TZOFFSETFROM:-0800
TZOFFSETTO:-0700
TZNAME:PDT
DTSTART:20240310T100000
END:DAYLIGHT
BEGIN:STANDARD
TZOFFSETFROM:-0700
TZOFFSETTO:-0800
TZNAME:PST
DTSTART:20241103T090000
END:STANDARD
BEGIN:DAYLIGHT
TZOFFSETFROM:-0800
TZOFFSETTO:-0700
TZNAME:PDT
DTSTART:20250309T100000
END:DAYLIGHT
BEGIN:STANDARD
TZOFFSETFROM:-0700
TZOFFSETTO:-0800
TZNAME:PST
DTSTART:20251102T090000
END:STANDARD
END:VTIMEZONE
BEGIN:VEVENT
DTSTART;TZID=America/Los_Angeles:20240615T100000
DTEND;TZID=America/Los_Angeles:20240616T170000
DTSTAMP:20260422T153633
CREATED:20240506T212949Z
LAST-MODIFIED:20240516T212202Z
UID:2040-1718445600-1718557200@www.emeritusvineyards.com
SUMMARY:Father’s Day Pairing with Journeyman Meat Co.
DESCRIPTION:Treat Dad to a special pairing of salami from Sonoma’s Journeyman Meat Co. with Emeritus Pinot Noir.  Which will be Dad’s favorite – the Sonoma Rosso\, the Lombo\, or the Finocchiona?  Actually\, it will be YOU for giving him a gift he truly enjoys this year.  (Don’t buy him socks.)  Reserve a tasting with pairing for $55/person ($15 for Club Members when added to complimentary tastings).
URL:http://www.emeritusvineyards.com/event/fathers-day-pairing-with-journeyman-meat-co/
LOCATION:CA
END:VEVENT
END:VCALENDAR