BEGIN:VCALENDAR
VERSION:2.0
PRODID:-//Emeritus Vineyards - ECPv6.15.20//NONSGML v1.0//EN
CALSCALE:GREGORIAN
METHOD:PUBLISH
X-ORIGINAL-URL:http://www.emeritusvineyards.com
X-WR-CALDESC:Events for Emeritus Vineyards
REFRESH-INTERVAL;VALUE=DURATION:PT1H
X-Robots-Tag:noindex
X-PUBLISHED-TTL:PT1H
BEGIN:VTIMEZONE
TZID:UTC
BEGIN:STANDARD
TZOFFSETFROM:+0000
TZOFFSETTO:+0000
TZNAME:UTC
DTSTART:20230101T000000
END:STANDARD
END:VTIMEZONE
BEGIN:VEVENT
DTSTART;TZID=UTC:20240622T110000
DTEND;TZID=UTC:20240622T160000
DTSTAMP:20260422T184045
CREATED:20230609T043430Z
LAST-MODIFIED:20240507T044039Z
UID:1264-1719054000-1719072000@www.emeritusvineyards.com
SUMMARY:Taste of Sonoma
DESCRIPTION:Taste of Sonoma is one of Sonoma County’s most highly anticipated events of the year. With access to more than 60 wine varietals and 19 unique growing areas\, Sonoma County’s remarkable winemakers craft world-class wines for every palate.
URL:http://www.emeritusvineyards.com/event/taste-of-sonoma/
LOCATION:CA
ATTACH;FMTTYPE=image/jpeg:http://www.emeritusvineyards.com/wp-content/uploads/2023/06/Taste-of-Sonoma.jpeg
END:VEVENT
END:VCALENDAR