BEGIN:VCALENDAR
VERSION:2.0
PRODID:-//Emeritus Vineyards - ECPv6.15.20//NONSGML v1.0//EN
CALSCALE:GREGORIAN
METHOD:PUBLISH
X-WR-CALNAME:Emeritus Vineyards
X-ORIGINAL-URL:http://www.emeritusvineyards.com
X-WR-CALDESC:Events for Emeritus Vineyards
REFRESH-INTERVAL;VALUE=DURATION:PT1H
X-Robots-Tag:noindex
X-PUBLISHED-TTL:PT1H
BEGIN:VTIMEZONE
TZID:America/Los_Angeles
BEGIN:DAYLIGHT
TZOFFSETFROM:-0800
TZOFFSETTO:-0700
TZNAME:PDT
DTSTART:20230312T100000
END:DAYLIGHT
BEGIN:STANDARD
TZOFFSETFROM:-0700
TZOFFSETTO:-0800
TZNAME:PST
DTSTART:20231105T090000
END:STANDARD
BEGIN:DAYLIGHT
TZOFFSETFROM:-0800
TZOFFSETTO:-0700
TZNAME:PDT
DTSTART:20240310T100000
END:DAYLIGHT
BEGIN:STANDARD
TZOFFSETFROM:-0700
TZOFFSETTO:-0800
TZNAME:PST
DTSTART:20241103T090000
END:STANDARD
BEGIN:DAYLIGHT
TZOFFSETFROM:-0800
TZOFFSETTO:-0700
TZNAME:PDT
DTSTART:20250309T100000
END:DAYLIGHT
BEGIN:STANDARD
TZOFFSETFROM:-0700
TZOFFSETTO:-0800
TZNAME:PST
DTSTART:20251102T090000
END:STANDARD
END:VTIMEZONE
BEGIN:VEVENT
DTSTART;TZID=America/Los_Angeles:20240915T170000
DTEND;TZID=America/Los_Angeles:20240915T210000
DTSTAMP:20260424T160444
CREATED:20240821T223602Z
LAST-MODIFIED:20240821T223602Z
UID:2171-1726419600-1726434000@www.emeritusvineyards.com
SUMMARY:Feast Above The River
DESCRIPTION:We cordially invite you to indulge in a gourmet feast paired with a selection of exquisite wines from Taste West County. This year’s Feast Above the River will feature three different experiences for you to enjoy. The evening will start with delicious appetizers and small bites from local restaurants for the bubbles and bites party\, followed by a four-course dinner designed by local chefs\, and finally an exclusive after-party to finish the night!
URL:http://www.emeritusvineyards.com/event/feast-above-the-river/
LOCATION:Guerneville Pedestrian Bridge
END:VEVENT
END:VCALENDAR