BEGIN:VCALENDAR
VERSION:2.0
PRODID:-//Emeritus Vineyards - ECPv6.15.17.1//NONSGML v1.0//EN
CALSCALE:GREGORIAN
METHOD:PUBLISH
X-WR-CALNAME:Emeritus Vineyards
X-ORIGINAL-URL:http://www.emeritusvineyards.com
X-WR-CALDESC:Events for Emeritus Vineyards
REFRESH-INTERVAL;VALUE=DURATION:PT1H
X-Robots-Tag:noindex
X-PUBLISHED-TTL:PT1H
BEGIN:VTIMEZONE
TZID:America/Los_Angeles
BEGIN:DAYLIGHT
TZOFFSETFROM:-0800
TZOFFSETTO:-0700
TZNAME:PDT
DTSTART:20250309T100000
END:DAYLIGHT
BEGIN:STANDARD
TZOFFSETFROM:-0700
TZOFFSETTO:-0800
TZNAME:PST
DTSTART:20251102T090000
END:STANDARD
BEGIN:DAYLIGHT
TZOFFSETFROM:-0800
TZOFFSETTO:-0700
TZNAME:PDT
DTSTART:20260308T100000
END:DAYLIGHT
BEGIN:STANDARD
TZOFFSETFROM:-0700
TZOFFSETTO:-0800
TZNAME:PST
DTSTART:20261101T090000
END:STANDARD
BEGIN:DAYLIGHT
TZOFFSETFROM:-0800
TZOFFSETTO:-0700
TZNAME:PDT
DTSTART:20270314T100000
END:DAYLIGHT
BEGIN:STANDARD
TZOFFSETFROM:-0700
TZOFFSETTO:-0800
TZNAME:PST
DTSTART:20271107T090000
END:STANDARD
END:VTIMEZONE
BEGIN:VEVENT
DTSTART;TZID=America/Los_Angeles:20260509T120000
DTEND;TZID=America/Los_Angeles:20260509T170000
DTSTAMP:20260419T174943
CREATED:20260122T220844Z
LAST-MODIFIED:20260122T220844Z
UID:2416-1778328000-1778346000@www.emeritusvineyards.com
SUMMARY:Green Valley Food & Wine Festival
DESCRIPTION:The Green Valley Food and Wine Festival is a celebration of local flavors\, community\, and connection. Held in the heart of the Green Valley\, this event brings together our watershed’s winemakers\, chefs\, and artisans to showcase the best of our region while supporting the Graton Community Services District’s creation of the new Graton Town Square — as a gathering place for markets\, music\, and cultural experiences. Tickets available soon.
URL:http://www.emeritusvineyards.com/event/green-valley-food-wine-festival/
LOCATION:Graton Town Square\, United States
ATTACH;FMTTYPE=image/png:http://www.emeritusvineyards.com/wp-content/uploads/2026/01/Green_Valley_Food_and_Wine.png
END:VEVENT
END:VCALENDAR