BEGIN:VCALENDAR
VERSION:2.0
PRODID:-//Emeritus Vineyards - ECPv6.15.20//NONSGML v1.0//EN
CALSCALE:GREGORIAN
METHOD:PUBLISH
X-WR-CALNAME:Emeritus Vineyards
X-ORIGINAL-URL:http://www.emeritusvineyards.com
X-WR-CALDESC:Events for Emeritus Vineyards
REFRESH-INTERVAL;VALUE=DURATION:PT1H
X-Robots-Tag:noindex
X-PUBLISHED-TTL:PT1H
BEGIN:VTIMEZONE
TZID:UTC
BEGIN:STANDARD
TZOFFSETFROM:+0000
TZOFFSETTO:+0000
TZNAME:UTC
DTSTART:20230101T000000
END:STANDARD
END:VTIMEZONE
BEGIN:VEVENT
DTSTART;TZID=UTC:20240203T140000
DTEND;TZID=UTC:20240203T173000
DTSTAMP:20260423T063407
CREATED:20240124T070755Z
LAST-MODIFIED:20240125T052550Z
UID:1877-1706968800-1706981400@www.emeritusvineyards.com
SUMMARY:Passion for Pinot
DESCRIPTION:Join us at the fourth annual Palm Springs Pinot Noir Festival\, also known as “Passion4Pinot”! We’ll be pouring at the Grand Tasting on February 3  along with over 70 other California Pinot producers in the wintertime desert playground of Palm Springs.
URL:http://www.emeritusvineyards.com/event/passionforpinot/
LOCATION:Westin Rancho Mirage\, Rancho Mirage\, California
ATTACH;FMTTYPE=image/png:http://www.emeritusvineyards.com/wp-content/uploads/2024/01/Passion4Pinot.png
END:VEVENT
BEGIN:VEVENT
DTSTART;TZID=UTC:20240209T100000
DTEND;TZID=UTC:20240211T170000
DTSTAMP:20260423T063407
CREATED:20240124T071224Z
LAST-MODIFIED:20240124T071224Z
UID:1881-1707472800-1707670800@www.emeritusvineyards.com
SUMMARY:Sweethearts Pairing
DESCRIPTION:Celebrate Valentine’s Day with a unique pairing of chocolates and Emeritus Pinot Noir. Explore the interaction of salty\, sweet\, and savory flavors with the decadence of chocolate paired with special bottles from the cellar. \n$60 per person/$25 for E-Club Members.  Reservations required\, please book by Sunday\, February 4th
URL:http://www.emeritusvineyards.com/event/sweetheartspairing/
LOCATION:Emeritus Vineyard Winery\, 2500 Gravenstein Highway North\, Sebastopol\, CA\, 95472\, United States
ATTACH;FMTTYPE=image/jpeg:http://www.emeritusvineyards.com/wp-content/uploads/2024/01/IMG_4269_Revised_Square_Small.jpg
END:VEVENT
BEGIN:VEVENT
DTSTART;TZID=UTC:20240222T173000
DTEND;TZID=UTC:20240222T183000
DTSTAMP:20260423T063407
CREATED:20240124T071922Z
LAST-MODIFIED:20240124T071922Z
UID:1884-1708623000-1708626600@www.emeritusvineyards.com
SUMMARY:Virtual Wine & Cheese Tasting
DESCRIPTION:Join us for a delicious virtual tasting hosted by Mari & Keith\, celebrating the classic pairing of wine and cheese. We have partnered with Point Reyes Cheese Company\,  a local\, artisan\, female-run\, family-owned dairy farm\, to pair our wines. Make sure to order your wine and cheese package by February 11 – each has three of our mini bottles and three cheeses from Point Reyes. Wine & Cheese package for two $195/$170 for E-Club Members. Please order by Sunday\, February 11th
URL:http://www.emeritusvineyards.com/event/winecheese/
LOCATION:Emeritus Vineyard Winery\, 2500 Gravenstein Highway North\, Sebastopol\, CA\, 95472\, United States
ATTACH;FMTTYPE=image/png:http://www.emeritusvineyards.com/wp-content/uploads/2024/01/Virtual-Cheese-Tasting-Square.png
END:VEVENT
BEGIN:VEVENT
DTSTART;TZID=UTC:20240229T190000
DTEND;TZID=UTC:20240302T210000
DTSTAMP:20260423T063407
CREATED:20240125T045328Z
LAST-MODIFIED:20240125T045328Z
UID:1887-1709233200-1709413200@www.emeritusvineyards.com
SUMMARY:World of Pinot Noir
DESCRIPTION:Join us at The World of Pinot Noir in Santa Barbara to celebrate of our favorite grape! Mari will be one of the hosts of the Women of the Russian River Valley Luncheon on Friday\, March 1st after which we’ll be pouring at the Grand Tasting. Get your tickets now!
URL:http://www.emeritusvineyards.com/event/worldofpinotnoir/
LOCATION:Ritz Carleton Bacara\, Santa Barbara
ATTACH;FMTTYPE=image/jpeg:http://www.emeritusvineyards.com/wp-content/uploads/2024/01/WOPN_Square.jpg
END:VEVENT
END:VCALENDAR