BEGIN:VCALENDAR
VERSION:2.0
PRODID:-//Emeritus Vineyards - ECPv6.15.20//NONSGML v1.0//EN
CALSCALE:GREGORIAN
METHOD:PUBLISH
X-WR-CALNAME:Emeritus Vineyards
X-ORIGINAL-URL:http://www.emeritusvineyards.com
X-WR-CALDESC:Events for Emeritus Vineyards
REFRESH-INTERVAL;VALUE=DURATION:PT1H
X-Robots-Tag:noindex
X-PUBLISHED-TTL:PT1H
BEGIN:VTIMEZONE
TZID:America/Los_Angeles
BEGIN:DAYLIGHT
TZOFFSETFROM:-0800
TZOFFSETTO:-0700
TZNAME:PDT
DTSTART:20230312T100000
END:DAYLIGHT
BEGIN:STANDARD
TZOFFSETFROM:-0700
TZOFFSETTO:-0800
TZNAME:PST
DTSTART:20231105T090000
END:STANDARD
BEGIN:DAYLIGHT
TZOFFSETFROM:-0800
TZOFFSETTO:-0700
TZNAME:PDT
DTSTART:20240310T100000
END:DAYLIGHT
BEGIN:STANDARD
TZOFFSETFROM:-0700
TZOFFSETTO:-0800
TZNAME:PST
DTSTART:20241103T090000
END:STANDARD
BEGIN:DAYLIGHT
TZOFFSETFROM:-0800
TZOFFSETTO:-0700
TZNAME:PDT
DTSTART:20250309T100000
END:DAYLIGHT
BEGIN:STANDARD
TZOFFSETFROM:-0700
TZOFFSETTO:-0800
TZNAME:PST
DTSTART:20251102T090000
END:STANDARD
END:VTIMEZONE
BEGIN:VTIMEZONE
TZID:UTC
BEGIN:STANDARD
TZOFFSETFROM:+0000
TZOFFSETTO:+0000
TZNAME:UTC
DTSTART:20230101T000000
END:STANDARD
END:VTIMEZONE
BEGIN:VEVENT
DTSTART;TZID=America/Los_Angeles:20240615T100000
DTEND;TZID=America/Los_Angeles:20240616T170000
DTSTAMP:20260424T084441
CREATED:20240506T212949Z
LAST-MODIFIED:20240516T212202Z
UID:2040-1718445600-1718557200@www.emeritusvineyards.com
SUMMARY:Father’s Day Pairing with Journeyman Meat Co.
DESCRIPTION:Treat Dad to a special pairing of salami from Sonoma’s Journeyman Meat Co. with Emeritus Pinot Noir.  Which will be Dad’s favorite – the Sonoma Rosso\, the Lombo\, or the Finocchiona?  Actually\, it will be YOU for giving him a gift he truly enjoys this year.  (Don’t buy him socks.)  Reserve a tasting with pairing for $55/person ($15 for Club Members when added to complimentary tastings).
URL:http://www.emeritusvineyards.com/event/fathers-day-pairing-with-journeyman-meat-co/
LOCATION:CA
END:VEVENT
BEGIN:VEVENT
DTSTART;TZID=UTC:20240622T110000
DTEND;TZID=UTC:20240622T160000
DTSTAMP:20260424T084441
CREATED:20230609T043430Z
LAST-MODIFIED:20240507T044039Z
UID:1264-1719054000-1719072000@www.emeritusvineyards.com
SUMMARY:Taste of Sonoma
DESCRIPTION:Taste of Sonoma is one of Sonoma County’s most highly anticipated events of the year. With access to more than 60 wine varietals and 19 unique growing areas\, Sonoma County’s remarkable winemakers craft world-class wines for every palate.
URL:http://www.emeritusvineyards.com/event/taste-of-sonoma/
LOCATION:CA
ATTACH;FMTTYPE=image/jpeg:http://www.emeritusvineyards.com/wp-content/uploads/2023/06/Taste-of-Sonoma.jpeg
END:VEVENT
BEGIN:VEVENT
DTSTART;TZID=America/Los_Angeles:20240623T160000
DTEND;TZID=America/Los_Angeles:20240623T180000
DTSTAMP:20260424T084441
CREATED:20240517T194354Z
LAST-MODIFIED:20240528T233017Z
UID:2073-1719158400-1719165600@www.emeritusvineyards.com
SUMMARY:Summer Solstice Tasting
DESCRIPTION:Join us for Summer Solstice Tasting at the Mitote Food Park!  We’ll be pouring along with a dozen other Taste West County wineries.  What better way to celebrate the longest day of the year..
URL:http://www.emeritusvineyards.com/event/summer-solstice-tasting/
LOCATION:Mitote Food Park\, 665 Sebastopol Road\, Santa Rosa\, CA\, United States
END:VEVENT
BEGIN:VEVENT
DTSTART;TZID=UTC:20240629T180000
DTEND;TZID=UTC:20240629T210000
DTSTAMP:20260424T084441
CREATED:20240126T005925Z
LAST-MODIFIED:20240522T185326Z
UID:1931-1719684000-1719694800@www.emeritusvineyards.com
SUMMARY:Winemaker Dinner with Vineyard Views
DESCRIPTION:This year we’re taking dinner out of the cellar to enjoy the summer night with a view out over the vines on Hallberg Ranch.  Join Mari and Keith for a very special evening of great wine paired with a menu crafted by Chef Seamus. We’ll be hand disgorging our 2021 Brut\, sampling from barrels\, and doing a side-by-side comparison of La Combette throughout the evening. We hope you join us for this once-a-year event! \nMenu \n2021 Hand Disgorged Hallberg Brut\nToast Three Ways \n2022 Hallberg Blanc Magnum\nSonoma County Heirloom Tomato Salad\nMelon\, Basil\, Little Gems\, Smoked Stracciatella\, Roasted Corn\, Almond Crumble \n2021 Hallberg Ranch\nHouse Smoked Salmon\nMarinated Cucumber and Summer Squash\, Whipped Crème Fraiche\, Pepitas \n2018 Pinot Hill Cruz\nHandmade Gnocchi\nWood Fired Corn\, Black Pig Bacon\, Maitake Mushrooms\, Basil \n2015 La Combette & 2018 La Combette\nSlow Roasted Lamb Shoulder & Loin\nBrown Butter Potatoes\, Wood Fired Brassicas\, King Trumpets\, Toasted Cauliflower Gremolata \n2018 Wesley’s Reserve\nBrown Butter Tres Leches Cake\nStony Point Strawberries\, Shaved Smoked Chocolate \n$250 per person / $200 for E-Club Members \nPlease contact us for food allergies/accommodations \n$250/$200 for E-Club Members.
URL:http://www.emeritusvineyards.com/event/winemakerdinner/
LOCATION:Emeritus Vineyard Winery\, 2500 Gravenstein Highway North\, Sebastopol\, CA\, 95472\, United States
ATTACH;FMTTYPE=image/jpeg:http://www.emeritusvineyards.com/wp-content/uploads/2024/01/Winemaker_Dinner_Square.jpg
END:VEVENT
BEGIN:VEVENT
DTSTART;TZID=UTC:20240630T120000
DTEND;TZID=UTC:20240630T150000
DTSTAMP:20260424T084441
CREATED:20240130T055837Z
LAST-MODIFIED:20240529T174736Z
UID:1942-1719748800-1719759600@www.emeritusvineyards.com
SUMMARY:Summer Music Series
DESCRIPTION:Join us for live music on the patio with Nick Foxer during your tasting or just join us for a glass of wine. Let’s kick off summer with some great sips and sounds!  No tickets are required – just reserve a Summer Music Series tasting during this time and come enjoy some live music!
URL:http://www.emeritusvineyards.com/event/summermusicseries/
LOCATION:Emeritus Vineyard Winery\, 2500 Gravenstein Highway North\, Sebastopol\, CA\, 95472\, United States
END:VEVENT
END:VCALENDAR