BEGIN:VCALENDAR
VERSION:2.0
PRODID:-//Emeritus Vineyards - ECPv6.15.20//NONSGML v1.0//EN
CALSCALE:GREGORIAN
METHOD:PUBLISH
X-ORIGINAL-URL:http://www.emeritusvineyards.com
X-WR-CALDESC:Events for Emeritus Vineyards
REFRESH-INTERVAL;VALUE=DURATION:PT1H
X-Robots-Tag:noindex
X-PUBLISHED-TTL:PT1H
BEGIN:VTIMEZONE
TZID:America/Los_Angeles
BEGIN:DAYLIGHT
TZOFFSETFROM:-0800
TZOFFSETTO:-0700
TZNAME:PDT
DTSTART:20230312T100000
END:DAYLIGHT
BEGIN:STANDARD
TZOFFSETFROM:-0700
TZOFFSETTO:-0800
TZNAME:PST
DTSTART:20231105T090000
END:STANDARD
BEGIN:DAYLIGHT
TZOFFSETFROM:-0800
TZOFFSETTO:-0700
TZNAME:PDT
DTSTART:20240310T100000
END:DAYLIGHT
BEGIN:STANDARD
TZOFFSETFROM:-0700
TZOFFSETTO:-0800
TZNAME:PST
DTSTART:20241103T090000
END:STANDARD
BEGIN:DAYLIGHT
TZOFFSETFROM:-0800
TZOFFSETTO:-0700
TZNAME:PDT
DTSTART:20250309T100000
END:DAYLIGHT
BEGIN:STANDARD
TZOFFSETFROM:-0700
TZOFFSETTO:-0800
TZNAME:PST
DTSTART:20251102T090000
END:STANDARD
END:VTIMEZONE
BEGIN:VTIMEZONE
TZID:UTC
BEGIN:STANDARD
TZOFFSETFROM:+0000
TZOFFSETTO:+0000
TZNAME:UTC
DTSTART:20230101T000000
END:STANDARD
END:VTIMEZONE
BEGIN:VEVENT
DTSTART;TZID=America/Los_Angeles:20240802T100000
DTEND;TZID=America/Los_Angeles:20240804T170000
DTSTAMP:20260424T071301
CREATED:20240506T215141Z
LAST-MODIFIED:20240722T173336Z
UID:2044-1722592800-1722790800@www.emeritusvineyards.com
SUMMARY:Famed BBQ Pinot Pairing
DESCRIPTION:Spend a sunny summer day at Emeritus! During the Russian River Valley Wine Weekend we will be offering a special picnic pairing with BBQ sandwiches from Marvin’s BBQ & Deli in Sebastopol (A&M – as Featured in Sonoma Magazine’s Secrets of Summer) along with a glass of Emeritus wine in a branded Go Vino that is yours to keep! Enjoy the vineyard views from our picnic tables or bring your own blanket and kick back on the grass. Reservations are required.
URL:http://www.emeritusvineyards.com/event/russian-river-valley-wine-weekend/
LOCATION:Emeritus Vineyard Winery\, 2500 Gravenstein Highway North\, Sebastopol\, CA\, 95472\, United States
ATTACH;FMTTYPE=image/jpeg:http://www.emeritusvineyards.com/wp-content/uploads/2024/05/Picnic_Square-scaled.jpg
END:VEVENT
BEGIN:VEVENT
DTSTART;TZID=America/Los_Angeles:20240802T173000
DTEND;TZID=America/Los_Angeles:20240802T203000
DTSTAMP:20260424T071301
CREATED:20240715T224202Z
LAST-MODIFIED:20240715T224747Z
UID:2124-1722619800-1722630600@www.emeritusvineyards.com
SUMMARY:Russian River Valley Wine Weekend - Sunset Soirée
DESCRIPTION:Uncork an unforgettable evening under the California sky at the Russian River Valley Wine Weekend’s opening night party\, the Sunset Soirée Presented by San Francisco Magazine. \nJoin us on Friday\, August 2nd\, 2024 from 5:30 pm to 8:30 pm for an unforgettable evening celebrating the bounty of the Russian River Valley.  Sip wines from over 30 wineries\, 🍷 marvel at the Paradise Ridge Winery views\, savor delicious bites from local purveyors\, all while swaying to live music by Bay Area favorite\, Hella Fitzgerald.
URL:http://www.emeritusvineyards.com/event/russian-river-valley-wine-weekend-sunset-soiree/
LOCATION:Paradise Ridge Winery\, 4545 Thomas Lake Harris Drive\, Santa Rosa\, California\, 95403
END:VEVENT
BEGIN:VEVENT
DTSTART;TZID=UTC:20240825T120000
DTEND;TZID=UTC:20240825T150000
DTSTAMP:20260424T071301
CREATED:20240510T223505Z
LAST-MODIFIED:20240530T222412Z
UID:2049-1724587200-1724598000@www.emeritusvineyards.com
SUMMARY:Summer Music Series
DESCRIPTION:Join us for live music on the patio with Brian Francis Baudoin during your tasting or just join us for a glass of wine. It’s the last in our summer music series\, so come out with your favorite pooch and enjoy the summer rays. No tickets are required – just reserve a Summer Music Series tasting during this time and come enjoy some live music!
URL:http://www.emeritusvineyards.com/event/summer-music-series-2/
LOCATION:Emeritus Vineyard Winery\, 2500 Gravenstein Highway North\, Sebastopol\, CA\, 95472\, United States
END:VEVENT
BEGIN:VEVENT
DTSTART;TZID=America/Los_Angeles:20240825T130000
DTEND;TZID=America/Los_Angeles:20240825T170000
DTSTAMP:20260424T071301
CREATED:20240814T215218Z
LAST-MODIFIED:20240814T222530Z
UID:2149-1724590800-1724605200@www.emeritusvineyards.com
SUMMARY:Wag\, Wine & Dine
DESCRIPTION:Come join us for a pawsitively delightful afternoon at Waggin’ Trails Rescue **Wag\, Wine & Dine** event! Treat your furry friend to a day of indulgence while you savor delicious bites and sip on wine. Join us for this fundraiser event and help to save the lives of countless animals! Don’t miss this chance to enjoy good food\, great company\, and wagging tails all around!
URL:http://www.emeritusvineyards.com/event/wag-wine-dine/
LOCATION:Meritage Resort & Spa\, 875 Bordeaux Way\, Napa\, CA\, 94558
END:VEVENT
BEGIN:VEVENT
DTSTART;TZID=America/Los_Angeles:20240830T180000
DTEND;TZID=America/Los_Angeles:20240830T200000
DTSTAMP:20260424T071301
CREATED:20240528T214338Z
LAST-MODIFIED:20240812T191158Z
UID:2081-1725040800-1725048000@www.emeritusvineyards.com
SUMMARY:Hallberg Blanc White Party
DESCRIPTION:Celebrate the new vintage of Hallberg Blanc with us! We’ll be honoring the one white we produce with a full-on white party – so dress to impress and come taste the new 2023 vintage! $75 per person / $35 for E-Club Members \nMenu\nOysters on the Half-Shell\nScallops Poached in Olive Oil\nEnd of Summer Sonoma Crudité\nMarinated Crab & Apple Slaw\n18-Hour Braised Short Ribs
URL:http://www.emeritusvineyards.com/event/hallberg-blanc-white-party/
LOCATION:Emeritus Vineyard Winery\, 2500 Gravenstein Highway North\, Sebastopol\, CA\, 95472\, United States
ATTACH;FMTTYPE=image/jpeg:http://www.emeritusvineyards.com/wp-content/uploads/2024/05/Blanc_Party_Square-scaled.jpg
END:VEVENT
END:VCALENDAR