BEGIN:VCALENDAR
VERSION:2.0
PRODID:-//Emeritus Vineyards - ECPv6.15.20//NONSGML v1.0//EN
CALSCALE:GREGORIAN
METHOD:PUBLISH
X-ORIGINAL-URL:http://www.emeritusvineyards.com
X-WR-CALDESC:Events for Emeritus Vineyards
REFRESH-INTERVAL;VALUE=DURATION:PT1H
X-Robots-Tag:noindex
X-PUBLISHED-TTL:PT1H
BEGIN:VTIMEZONE
TZID:America/Los_Angeles
BEGIN:DAYLIGHT
TZOFFSETFROM:-0800
TZOFFSETTO:-0700
TZNAME:PDT
DTSTART:20250309T100000
END:DAYLIGHT
BEGIN:STANDARD
TZOFFSETFROM:-0700
TZOFFSETTO:-0800
TZNAME:PST
DTSTART:20251102T090000
END:STANDARD
BEGIN:DAYLIGHT
TZOFFSETFROM:-0800
TZOFFSETTO:-0700
TZNAME:PDT
DTSTART:20260308T100000
END:DAYLIGHT
BEGIN:STANDARD
TZOFFSETFROM:-0700
TZOFFSETTO:-0800
TZNAME:PST
DTSTART:20261101T090000
END:STANDARD
BEGIN:DAYLIGHT
TZOFFSETFROM:-0800
TZOFFSETTO:-0700
TZNAME:PDT
DTSTART:20270314T100000
END:DAYLIGHT
BEGIN:STANDARD
TZOFFSETFROM:-0700
TZOFFSETTO:-0800
TZNAME:PST
DTSTART:20271107T090000
END:STANDARD
END:VTIMEZONE
BEGIN:VEVENT
DTSTART;TZID=America/Los_Angeles:20261017T120000
DTEND;TZID=America/Los_Angeles:20261017T150000
DTSTAMP:20260422T051902
CREATED:20260121T222917Z
LAST-MODIFIED:20260121T222917Z
UID:2402-1792238400-1792249200@www.emeritusvineyards.com
SUMMARY:Harvest Trail
DESCRIPTION:Experience fall in wine country and follow the trail our grapes take from vine to crush pad while meeting our team\, sampling new releases\, and special wines paired with small bites. Exclusive for members of the E-Club. Members receive two complimentary tickets\, additional tickets $50/person.
URL:http://www.emeritusvineyards.com/event/harvest-trail-3/
LOCATION:Emeritus Vineyard Winery\, 2500 Gravenstein Highway North\, Sebastopol\, CA\, 95472\, United States
ATTACH;FMTTYPE=image/jpeg:http://www.emeritusvineyards.com/wp-content/uploads/2026/01/Harvest_Trail_CALENDAR-scaled.jpg
END:VEVENT
END:VCALENDAR